0.0000089993
0.0000000000
0.0000000000
-0.0000089993
-81.4376979842
30.4975791936
