0.0000089993
0.0000000000
0.0000000000
-0.0000089993
-81.4378689705
30.5336663066
