0.0000089993
0.0000000000
0.0000000000
-0.0000089993
-81.4384809215
30.6690334773
