0.0000089993
0.0000000000
0.0000000000
-0.0000089993
-81.4386429086
30.7051025917
