0.0000089993
0.0000000000
0.0000000000
-0.0000089993
-81.4387329014
30.7247210223
