0.0000089993
0.0000000000
0.0000000000
-0.0000089993
-81.4209323254
30.3983711303
