0.0000089993
0.0000000000
0.0000000000
-0.0000089993
-81.4270158387
30.4344672426
