0.0000089993
0.0000000000
0.0000000000
-0.0000089993
-81.4272498200
30.4886069114
