0.0000089993
0.0000000000
0.0000000000
-0.0000089993
-81.4057415407
30.3442404608
