0.0000089993
0.0000000000
0.0000000000
-0.0000089993
-81.4165226782
30.4164506839
