0.0000089993
0.0000000000
0.0000000000
-0.0000089993
-81.4167206623
30.4615550755
