0.0000089993
0.0000000000
0.0000000000
-0.0000089993
-81.4168286537
30.4886429085
