0.0000089993
0.0000000000
0.0000000000
-0.0000089993
-81.4169456443
30.5156767458
