0.0000089993
0.0000000000
0.0000000000
-0.0000089993
-81.4166666667
30.5176115911
