0.0000089993
0.0000000000
0.0000000000
-0.0000089993
-81.4149118071
30.7071994240
