0.0000089993
0.0000000000
0.0000000000
-0.0000089993
-81.3969042477
30.2991720662
