0.0000089993
0.0000000000
0.0000000000
-0.0000089993
-81.4022408207
30.3262419006
