0.0000089993
0.0000000000
0.0000000000
-0.0000089993
-81.4058855292
30.3623380129
