0.0000089993
0.0000000000
0.0000000000
-0.0000089993
-81.4062275018
30.4435295176
