0.0000089993
0.0000000000
0.0000000000
-0.0000089993
-81.4071634269
30.6961663067
