0.0000089993
0.0000000000
0.0000000000
-0.0000089993
-81.4072984161
30.7034197264
