0.0000089993
0.0000000000
0.0000000000
-0.0000089993
-81.3913786897
30.2721292296
