0.0000089993
0.0000000000
0.0000000000
-0.0000089993
-81.3952663787
30.3082073434
