0.0000089993
0.0000000000
0.0000000000
-0.0000089993
-81.3956533477
30.4061915047
