0.0000089993
0.0000000000
0.0000000000
-0.0000089993
-81.3740910727
30.2090082793
