0.0000089993
0.0000000000
0.0000000000
-0.0000089993
-81.3609971202
30.1458423326
