0.0000089993
0.0000000000
0.0000000000
-0.0000089993
-81.3635349172
30.1639218862
