0.0000089993
0.0000000000
0.0000000000
-0.0000089993
-81.3655777538
30.7125359971
