0.0000089993
0.0000000000
0.0000000000
-0.0000089993
-81.3530507559
30.1368610511
