0.0000089993
0.0000000000
0.0000000000
-0.0000089993
-81.3406497480
30.0827483801
