0.0000089993
0.0000000000
0.0000000000
-0.0000089993
-81.3425755940
30.1088462922
