0.0000089993
0.0000000000
0.0000000000
-0.0000089993
-81.3303905688
30.0376619870
