0.0000089993
0.0000000000
0.0000000000
-0.0000089993
-81.3319834413
30.0466702663
