0.0000089993
0.0000000000
0.0000000000
-0.0000089993
-81.3114290857
29.9298956083
