0.0000089993
0.0000000000
0.0000000000
-0.0000089993
-81.3178995680
29.9745230381
