0.0000089993
0.0000000000
0.0000000000
-0.0000089993
-81.3108711303
29.9294276457
