0.0000089993
0.0000000000
0.0000000000
-0.0000089993
-81.3096382289
29.9474712022
