0.0000089993
0.0000000000
0.0000000000
-0.0000089993
-81.3109611231
29.9564974801
