0.0000089993
0.0000000000
0.0000000000
-0.0000089993
-81.2937365011
29.8843232541
