0.0000089993
0.0000000000
0.0000000000
-0.0000089993
-81.2899928006
29.8753239740
