0.0000089993
0.0000000000
0.0000000000
-0.0000089993
-81.2900377970
29.8933765298
