0.0000089993
0.0000000000
0.0000000000
-0.0000089993
-81.2796436285
29.8753419726
