0.0000089993
0.0000000000
0.0000000000
-0.0000089993
-81.2694024478
29.9217422606
