0.0000089993
0.0000000000
0.0000000000
-0.0000089993
-81.2589002880
29.8663426926
