0.0000089993
0.0000000000
0.0000000000
-0.0000089993
-81.4651907847
30.7591702663
