0.0000089993
0.0000000000
0.0000000000
-0.0000089993
-80.1777627790
25.6887958963
