0.0000089993
0.0000000000
0.0000000000
-0.0000089993
-80.1685835133
25.7312994960
