0.0000089993
0.0000000000
0.0000000000
-0.0000089993
-80.1626259899
25.7385619150
