0.0000089993
0.0000000000
0.0000000000
-0.0000089993
-80.1558945284
25.7475791936
