0.0000089993
0.0000000000
0.0000000000
-0.0000089993
-80.1504139669
25.7644348452
